BEGIN:VCALENDAR
VERSION:2.0
PRODID:-//wp-events-plugin.com//7.2.3.1//EN
TZID:America/New_York
X-WR-TIMEZONE:America/New_York
BEGIN:VEVENT
UID:7930@bascna.org
DTSTART;TZID=America/New_York;VALUE=DATE:20260424
DTEND;TZID=America/New_York;VALUE=DATE:20260427
DTSTAMP:20251015T010319Z
URL:https://www.bascna.org/events/17th-annual-mens-spiritual-retreat
SUMMARY:17th Annual Men's Spiritual Retreat
DESCRIPTION:Get You Spiritual Fix in '26\n(Sponsored by The War is Over Gro
 up - FunCoast Area)\n\nApril 24-26\, 2026\n\nCedarkirk Retreat Grounds\n19
 20 Streetman Dr.\nLithia\, FL 33547\n(NA is not affiliated with this facil
 ity)\n\nCost $185\n\nArrive as early as 3 pm on the 24th.\n\n
CATEGORIES:Tampa Fun Coast Activities
LOCATION:Cedarkirk Camp\, 1920 Streetman Dr\, Lithia \, FL\, 33541\, United
  States
X-APPLE-STRUCTURED-LOCATION;VALUE=URI;X-ADDRESS=1920 Streetman Dr\, Lithia 
 \, FL\, 33541\, United States;X-APPLE-RADIUS=100;X-TITLE=Cedarkirk Camp:ge
 o:0,0
END:VEVENT
BEGIN:VTIMEZONE
TZID:America/New_York
X-LIC-LOCATION:America/New_York
BEGIN:DAYLIGHT
DTSTART:20260308T030000
TZOFFSETFROM:-0500
TZOFFSETTO:-0400
TZNAME:EDT
END:DAYLIGHT
END:VTIMEZONE
END:VCALENDAR