BEGIN:VCALENDAR
VERSION:2.0
PRODID:-//wp-events-plugin.com//7.2.3.1//EN
TZID:America/New_York
X-WR-TIMEZONE:America/New_York
BEGIN:VEVENT
UID:7970@bascna.org
DTSTART;TZID=America/New_York:20261107T100000
DTEND;TZID=America/New_York:20261107T150000
DTSTAMP:20260121T021108Z
URL:https://www.bascna.org/events/happy-free-20th-anniversary-celebration
SUMMARY:Happy & Free 20th Anniversary Celebration
DESCRIPTION:The Happy & Free Group of Narcotics Anonymous is celebrating ou
 r 20th anniversary on November 7th\, 2026 at Phillipe Park (not affiliated
 ) from 10 am - 3 pm.\nYou know we like to plan in advance\, so mark your c
 alendars!!\nMore details will be announced as we get closer.
CATEGORIES:Group Events
LOCATION:PHILIPPE PARK\, 2525 Philippe Pkwy\, Safety Harbor\, FL\, 34695\, 
 United States
X-APPLE-STRUCTURED-LOCATION;VALUE=URI;X-ADDRESS=2525 Philippe Pkwy\, Safety
  Harbor\, FL\, 34695\, United States;X-APPLE-RADIUS=100;X-TITLE=PHILIPPE P
 ARK:geo:0,0
END:VEVENT
BEGIN:VTIMEZONE
TZID:America/New_York
X-LIC-LOCATION:America/New_York
BEGIN:STANDARD
DTSTART:20261101T010000
TZOFFSETFROM:-0400
TZOFFSETTO:-0500
TZNAME:EST
END:STANDARD
END:VTIMEZONE
END:VCALENDAR