BEGIN:VCALENDAR
VERSION:2.0
PRODID:-//wp-events-plugin.com//7.2.3.1//EN
TZID:America/New_York
X-WR-TIMEZONE:America/New_York
BEGIN:VEVENT
UID:7975@bascna.org
DTSTART;TZID=America/New_York:20260425T180000
DTEND;TZID=America/New_York:20260425T220000
DTSTAMP:20260308T135254Z
URL:https://www.bascna.org/events/resurrender-presents-music-bingo
SUMMARY:Resurrender Presents Music Bingo
DESCRIPTION:Resurrender Presents Music Bingo\nApril 25\, 2026\n6PM - 10PM\n
 Bingo\, Beats & Good Times\nTurn Up the Tunes: Music Bingo Night\nPlay the
  Hits\, Shout BINGO!\nSing Along & Win: Music Bingo Party\nDrop the Beat\,
  Mark Your Card AND WIN\nFood & Drinks for Sales\n3 Games 10$\n\n[pdf-embe
 dder url="https://www.bascna.org/wp-content/uploads/MUSIC-BINGO1_Redacted.
 pdf" title="MUSIC BINGO1_Redacted"]
CATEGORIES:Group Events
LOCATION:Northwest Presbyterian Church\, 6330 54th Avenue N\, St Petersburg
 \, Florida\, 33711\, United States
GEO:27.820265;-82.7228202
X-APPLE-STRUCTURED-LOCATION;VALUE=URI;X-ADDRESS=6330 54th Avenue N\, St Pet
 ersburg\, Florida\, 33711\, United States;X-APPLE-RADIUS=100;X-TITLE=North
 west Presbyterian Church:geo:27.820265,-82.7228202
END:VEVENT
BEGIN:VTIMEZONE
TZID:America/New_York
X-LIC-LOCATION:America/New_York
BEGIN:DAYLIGHT
DTSTART:20260308T030000
TZOFFSETFROM:-0500
TZOFFSETTO:-0400
TZNAME:EDT
END:DAYLIGHT
END:VTIMEZONE
END:VCALENDAR