BEGIN:VCALENDAR
VERSION:2.0
PRODID:-//wp-events-plugin.com//7.2.3.1//EN
TZID:America/New_York
X-WR-TIMEZONE:America/New_York
BEGIN:VEVENT
UID:7978@bascna.org
DTSTART;TZID=America/New_York:20260524T100000
DTEND;TZID=America/New_York:20260524T160000
DTSTAMP:20260412T135012Z
URL:https://www.bascna.org/events/the-noon-group-picnic-2
SUMMARY:The Noon Group Picnic
DESCRIPTION:Noon Group Annual Picnic\nMay 24\, 2026\n10am-4pm\nEagle Lake P
 ark Shelters 5 & 6\nFood\, Fun\, and Fellowship\nCovered dishes welcome\nN
 o Balloons\, and no parking on the grass\n\n\n\n[pdf-embedder url="https:/
 /www.bascna.org/wp-content/uploads/noongroup-1_Redacted.pdf" title="noongr
 oup (1)_Redacted"]
CATEGORIES:Group Events
LOCATION:Eagle Lake Park\, 1800 Keene Rd\, largo\, florida\, 33756\, United
  States
GEO:27.9301567;-82.76362219999999
X-APPLE-STRUCTURED-LOCATION;VALUE=URI;X-ADDRESS=1800 Keene Rd\, largo\, flo
 rida\, 33756\, United States;X-APPLE-RADIUS=100;X-TITLE=Eagle Lake Park:ge
 o:27.9301567,-82.76362219999999
END:VEVENT
BEGIN:VTIMEZONE
TZID:America/New_York
X-LIC-LOCATION:America/New_York
BEGIN:DAYLIGHT
DTSTART:20260308T030000
TZOFFSETFROM:-0500
TZOFFSETTO:-0400
TZNAME:EDT
END:DAYLIGHT
END:VTIMEZONE
END:VCALENDAR