BEGIN:VCALENDAR
VERSION:2.0
PRODID:-//wp-events-plugin.com//7.2.3.1//EN
TZID:America/New_York
X-WR-TIMEZONE:America/New_York
BEGIN:VEVENT
UID:7962@bascna.org
DTSTART;TZID=America/New_York:20260516T110000
DTEND;TZID=America/New_York:20260516T150000
DTSTAMP:20260105T004626Z
URL:https://www.bascna.org/events/the-steps-made-simple-12-step-workshp-20
 26-05-16
SUMMARY:The Steps Made Simple 12 Step Workshp
DESCRIPTION:Saturday: 10:00-3:00 (3rd Saturday)\n01/17/26\n02/21/26\n03/21/
 26\n04/18/26\n05/16/26\n06/20/26\n07/18/26\n08/15/26\n09/19/26\n10/17/26\n
 11/21/26\nCHRISTMAS\nBREAK\nCOME TAKE ALL 12 STEPS IN ONE DAY\nGREAT INTRO
 DUCTION TO THE STEPS\nDOUGHNUTS\, PIZZA\, AND SPIRTUAL AWAKENINGS PROVIDED
 \nTerra Nova\n(NA is not affiliated with Terra Nova)\n7550 40th St N\nPine
 llas Park\, FL 33781\nPAULB\n\n[pdf-embedder url="https://www.bascna.org/w
 p-content/uploads/The-Steps-Made-Simple-Flyer-2026-Redacted.pdf" title="Th
 e Steps Made Simple Flyer 2026 Redacted"]\n\nhttps://www.bascna.org/wp-con
 tent/uploads/The-Steps-Made-Simple-Flyer-2026-Redacted.pdf
CATEGORIES:Group Events
LOCATION:Terra Nova\, 7550 40th Street North\, Pinellas Park\, FL\, 33781\,
  United States
GEO:27.840597;-82.68798700000002
X-APPLE-STRUCTURED-LOCATION;VALUE=URI;X-ADDRESS=7550 40th Street North\, Pi
 nellas Park\, FL\, 33781\, United States;X-APPLE-RADIUS=100;X-TITLE=Terra 
 Nova:geo:27.840597,-82.68798700000002
END:VEVENT
BEGIN:VTIMEZONE
TZID:America/New_York
X-LIC-LOCATION:America/New_York
BEGIN:DAYLIGHT
DTSTART:20260308T030000
TZOFFSETFROM:-0500
TZOFFSETTO:-0400
TZNAME:EDT
END:DAYLIGHT
END:VTIMEZONE
END:VCALENDAR