BEGIN:VCALENDAR
VERSION:2.0
PRODID:-//wp-events-plugin.com//7.2.3.1//EN
TZID:America/New_York
X-WR-TIMEZONE:America/New_York
BEGIN:VEVENT
UID:7974@bascna.org
DTSTART;TZID=America/New_York:20260517T100000
DTEND;TZID=America/New_York:20260517T160000
DTSTAMP:20260301T232439Z
URL:https://www.bascna.org/events/women-and-recovery-family-picnic-3
SUMMARY:Women and Recovery Family Picnic
DESCRIPTION:Women and Recovery Family Picnic\nFood - Fellowship - Fun\n\nMe
 eting at 1pm\nPlease bring a covered dish.\nFood and drinks provided.\n\nF
 ort DeSoto Park Shelter #14\n*NA Not Affiliated With This Location*\n$6 en
 trance fee per vehicle to park.
CATEGORIES:Group Events
LOCATION:Fort Desoto Park\, 3500 Pinellas Bayway S.  Shelter #14\, Tierra V
 erde\, FL\, 33715\, United States
GEO:27.645826;-82.716618
X-APPLE-STRUCTURED-LOCATION;VALUE=URI;X-ADDRESS=3500 Pinellas Bayway S.  Sh
 elter #14\, Tierra Verde\, FL\, 33715\, United States;X-APPLE-RADIUS=100;X
 -TITLE=Fort Desoto Park:geo:27.645826,-82.716618
END:VEVENT
BEGIN:VTIMEZONE
TZID:America/New_York
X-LIC-LOCATION:America/New_York
BEGIN:DAYLIGHT
DTSTART:20260308T030000
TZOFFSETFROM:-0500
TZOFFSETTO:-0400
TZNAME:EDT
END:DAYLIGHT
END:VTIMEZONE
END:VCALENDAR